BEGIN:VCALENDAR
VERSION:2.0
PRODID:-//Confraria do Vinho do Porto - ECPv6.15.13//NONSGML v1.0//EN
CALSCALE:GREGORIAN
METHOD:PUBLISH
X-ORIGINAL-URL:https://confrariadovinhodoporto.com/pt-pt/
X-WR-CALDESC:Eventos para Confraria do Vinho do Porto
REFRESH-INTERVAL;VALUE=DURATION:PT1H
X-Robots-Tag:noindex
X-PUBLISHED-TTL:PT1H
BEGIN:VTIMEZONE
TZID:UTC
BEGIN:STANDARD
TZOFFSETFROM:+0000
TZOFFSETTO:+0000
TZNAME:UTC
DTSTART:20210101T000000
END:STANDARD
END:VTIMEZONE
BEGIN:VTIMEZONE
TZID:Europe/Paris
BEGIN:DAYLIGHT
TZOFFSETFROM:+0100
TZOFFSETTO:+0200
TZNAME:CEST
DTSTART:20210328T010000
END:DAYLIGHT
BEGIN:STANDARD
TZOFFSETFROM:+0200
TZOFFSETTO:+0100
TZNAME:CET
DTSTART:20211031T010000
END:STANDARD
BEGIN:DAYLIGHT
TZOFFSETFROM:+0100
TZOFFSETTO:+0200
TZNAME:CEST
DTSTART:20220327T010000
END:DAYLIGHT
BEGIN:STANDARD
TZOFFSETFROM:+0200
TZOFFSETTO:+0100
TZNAME:CET
DTSTART:20221030T010000
END:STANDARD
BEGIN:DAYLIGHT
TZOFFSETFROM:+0100
TZOFFSETTO:+0200
TZNAME:CEST
DTSTART:20230326T010000
END:DAYLIGHT
BEGIN:STANDARD
TZOFFSETFROM:+0200
TZOFFSETTO:+0100
TZNAME:CET
DTSTART:20231029T010000
END:STANDARD
END:VTIMEZONE
BEGIN:VEVENT
DTSTART;TZID=UTC:20240624T000000
DTEND;TZID=UTC:20240624T235959
DTSTAMP:20260424T175743
CREATED:20240304T124504Z
LAST-MODIFIED:20240304T124508Z
UID:23234-1719187200-1719273599@confrariadovinhodoporto.com
SUMMARY:XL Regata de Barcos Rabelos
DESCRIPTION:Organizada pela Confraria do Vinho do Porto\, esta regata é tradicionalmente realizada no rio Douro\, no Porto\, durante a tarde de 24 de junho\, o Dia de São João\, coincidindo com o Solstício de Verão. A corrida começa na foz do rio Douro e termina na Ponte Dom Luis I.Pode assistir à regata do lado do Porto ou do lado de Vila Nova de Gaia\, ou\, como Confrade\, terá também a oportunidade de comprar bilhetes para assistir à regata a partir do Barco dos Confrades..
URL:https://confrariadovinhodoporto.com/pt-pt/event/xl-regata-de-barcos-rabelos/
LOCATION:Douro River
ORGANIZER;CN="Confraria do Vinho do Porto":MAILTO:admin@confrariadovinhodoporto.com
END:VEVENT
BEGIN:VEVENT
DTSTART;TZID=UTC:20240622T000000
DTEND;TZID=UTC:20240622T235959
DTSTAMP:20260424T175743
CREATED:20240304T121727Z
LAST-MODIFIED:20240304T122249Z
UID:23208-1719014400-1719100799@confrariadovinhodoporto.com
SUMMARY:Cerimónia de Entronização Anual no Porto
DESCRIPTION:No dia 22 de Junho\, terá lugar a Cerimónia de Entronização Anual no Palácio da Bolsa\, seguida para um desfile até à Alfandega\, onde se realizará o Jantar e Baile de Gala para todos os Confrades. \n\nLocal: Palácio da Bolsa e Alfandega do Porto
URL:https://confrariadovinhodoporto.com/pt-pt/event/cerimonia-de-entronizacao-anual-no-porto/
LOCATION:Palácio da Bolsa\, R. de Ferreira Borges\, Porto\, 4050-253\, Portugal
ORGANIZER;CN="Confraria do Vinho do Porto":MAILTO:confraria@confrariadovinhodoporto.com
END:VEVENT
BEGIN:VEVENT
DTSTART;TZID=UTC:20240404T000000
DTEND;TZID=UTC:20240404T235959
DTSTAMP:20260424T175743
CREATED:20240304T122235Z
LAST-MODIFIED:20240304T122236Z
UID:23222-1712188800-1712275199@confrariadovinhodoporto.com
SUMMARY:Cerimónia de Entronização em São Francisco
DESCRIPTION:No dia 8 de Abril\, cerca de 30 novos Confrades serão entronizados na Confraria do Vinho do Porto\, no University Club de São Francisco.
URL:https://confrariadovinhodoporto.com/pt-pt/event/cerimonia-de-entronizacao-em-sao-francisco/
LOCATION:University Club of San Francisco
ORGANIZER;CN="Confraria do Vinho do Porto":MAILTO:confraria@confrariadovinhodoporto.com
END:VEVENT
BEGIN:VEVENT
DTSTART;TZID=UTC:20240322T000000
DTEND;TZID=UTC:20240324T235959
DTSTAMP:20260424T175743
CREATED:20240122T185823Z
LAST-MODIFIED:20240123T104604Z
UID:23128-1711065600-1711324799@confrariadovinhodoporto.com
SUMMARY:Porto Extravaganza "Vinhos Generosos de Portugal"
DESCRIPTION:O Porto Extravaganza é um dos mais famosos Eventos Fortificados em Portugal. Desde 2001 se realiza em Sintra\, e de três dias seguidos! Uma experiência incrível\, uma vez por ano\, no mês de março. O evento é uma celebração de eventos únicos e especiais\, onde os produtores são convidados a apresentar os seus Vinhos do Porto\, História e Cultura. \n\n\n\nEste ano o Porto Extravaganza será nos dias 22\, 23\, e 24 de março em Sintra na Casa dos Penedos\, um antigo Palácio no Centro Histórico de Sintra. \n\n\n\n22 de março (16H) \n\n\n\nVinhos do Porto Andresen – Vertical Single Harvest Tawny desde 1900. O Dr. Carlos Flores\, CEO\, vai apresentar a História e os Vinhos do Porto únicos da sua família. Uma degustação exclusiva! \n\n\n\n23 de março (16H) \n\n\n\nA Symington Family Estates apresenta: \n\n\n\nVinhos do Porto Graham’s – Vertical Single Harvest Tawny\, sempre um “Must” para receber estes incríveis e únicos Vinhos do Porto numa degustação vertical. \n\n\n\n19.30H – Jantar com Menu de Degustação do Penha Longa Resort e vinhos Symington. \n\n\n\n24 de março (16H) \n\n\n\nVinhos do Porto Rozès – Bem-vindo ao mundo das Categorias Especiais (Vinhos do Porto Brancos Velhos\, Vintage e Tawnys de Ano Único). \n\n\n\nPela primeira vez\, a Rozès vai apresentar uma Degustação de Vinho do Porto muito única ao mundo do Porto. \n\n\n\nNão perca! \n\n\n\n \n\n\n\nPreços \n\n\n\nO preço de cada prova – 200\,00 euros \n\n\n\nO preço por cada jantar – 85\,00 euros \n\n\n\n \n\n\n\nContacto \n\n\n\nPaulo Cruz  \n\n\n\nCorreio eletrónico: Bar.do.Binho.sintra@gmail.com \n\n\n\nSítio Web: https://bardobinho.com/index.html
URL:https://confrariadovinhodoporto.com/pt-pt/event/porto-extravaganza-vinhos-generosos-de-portugal/
LOCATION:Casa dos Penedos\, R. Mal. Saldanha 21\, 2710-631 Sintra\, Portugal\, Sintra\, Portugal
ORGANIZER;CN="Paulo Cruz":MAILTO:Bar.do.Binho.sintra@gmail.com
END:VEVENT
BEGIN:VEVENT
DTSTART;TZID=UTC:20240302T000000
DTEND;TZID=UTC:20240302T235959
DTSTAMP:20260424T175743
CREATED:20240122T192011Z
LAST-MODIFIED:20240122T192012Z
UID:23138-1709337600-1709423999@confrariadovinhodoporto.com
SUMMARY:PORTVINSMESSEN.DK
DESCRIPTION:Ivan Madsen\, junto com outras Confrades\, organiza a 9ª edição de uma enorme feira de Vinho do Porto em Roskilde\, nos arredores de Copenhaga\, no Sábado\, dia 2 de março de 2024. \n\nOs participantes incluem: \n\n– 1.000 convidados (2 x 500 convidados) \n\n– +350 Vinhos do Porto diferentes \n\n– Cerca de 50 marcas diferentes presentes \n\n– Cerca de 20 convidados (produtores e vendedores) de Portugal \n\n– Na feira vários produtores aproveitam também para lançar novos vinhos (muitas vezes em estreia mundial). \n\nOs convidados compram um bilhete para uma ronda de degustação de 2 horas\, e depois terão a possibilidade de provar os Vinhos do Porto gratuitamente.
URL:https://confrariadovinhodoporto.com/pt-pt/event/portvinsmessen-dk/
LOCATION:Roskilde Kongrescenter\, Denmark
END:VEVENT
BEGIN:VEVENT
DTSTART;TZID=UTC:20230624T160000
DTEND;TZID=UTC:20230624T193000
DTSTAMP:20260424T175743
CREATED:20220212T101232Z
LAST-MODIFIED:20230327T094746Z
UID:3550-1687622400-1687635000@confrariadovinhodoporto.com
SUMMARY:Regata Barcos Rabelo
DESCRIPTION:Organizada pela Confraria do Vinho do Porto\, esta regata – com um dos barcos mais invulgares ainda construídos – é tradicionalmente realizada no rio Douro\, no Porto\, durante a tarde de 24 de junho\, o Dia de São João\, coincidindo com o Solstício de Verão. \nA corrida começa na foz do rio Douro e termina na Ponte Dom Luis I. Pode assistir à regata do lado do Porto ou do lado de Vila Nova de Gaia. \n\n\n\n\n\n\n\n\nAssista ao vídeo promocional da Regata: \n\n\n\n\n\n\n\nFeel the thrill of the worlds only Barco Rabelo Race! [Video]
URL:https://confrariadovinhodoporto.com/pt-pt/event/regata-barcos-rabelo/
LOCATION:Porto – Portugal\, Porto\, Portugal
ORGANIZER;CN="Confraria do Vinho do Porto":MAILTO:admin@confrariadovinhodoporto.com
END:VEVENT
BEGIN:VEVENT
DTSTART;VALUE=DATE:20230420
DTEND;VALUE=DATE:20230421
DTSTAMP:20260424T175743
CREATED:20220212T101234Z
LAST-MODIFIED:20220217T161443Z
UID:3578-1681948800-1682035199@confrariadovinhodoporto.com
SUMMARY:BFT - Grande Degustação Fortificada
DESCRIPTION:A BFT é a maior e mais diversificada feira anual dedicada exclusivamente aos vinhos fortificados. O BFT será conduzido na Church House\, Westminster\, e trará aos membros do comércio de vinhos uma vasta gama de vinhos fortificados do Porto\, Sherry\, Madeira e australianos e seus produtores. \nEste evento destina-se a quem compra\, vende ou serve vinhos fortificados numa base comercial.
URL:https://confrariadovinhodoporto.com/pt-pt/event/bft-grande-degustacao-fortificada-2/
LOCATION:Church House\, Londres\, United Kingdom
ATTACH;FMTTYPE=image/png:https://confrariadovinhodoporto.com/wp-content/uploads/2022/02/BFTlogo_132.png
END:VEVENT
BEGIN:VEVENT
DTSTART;VALUE=DATE:20221104
DTEND;VALUE=DATE:20221105
DTSTAMP:20260424T175743
CREATED:20220212T101235Z
LAST-MODIFIED:20220217T155511Z
UID:3581-1667520000-1667606399@confrariadovinhodoporto.com
SUMMARY:Portwinemesse
DESCRIPTION:Portweinmesse\, 04 de novembro de 2022\, Leverkusen\, Alemanha – Se você ama o Porto\, este é um evento imperdível. Na masterclass deste ano\, Carlos Alves\, da Sogevinus\, explicará como mistura um antigo Porto Tawny e saboreia alguns Tawnies mais novos e mais velhos e muito velhos com você!
URL:https://confrariadovinhodoporto.com/pt-pt/event/portwinemesse/
LOCATION:Leverkusen\, Leverkusen\, Germany
ATTACH;FMTTYPE=image/jpeg:https://confrariadovinhodoporto.com/wp-content/uploads/2022/02/WorldOfWine_Featured_Event_132x93.jpg
END:VEVENT
BEGIN:VEVENT
DTSTART;TZID=Europe/Paris:20220624T180000
DTEND;TZID=Europe/Paris:20220624T193000
DTSTAMP:20260424T175743
CREATED:20220212T101233Z
LAST-MODIFIED:20220617T155439Z
UID:3556-1656093600-1656099000@confrariadovinhodoporto.com
SUMMARY:Regata Barcos Rabelo
DESCRIPTION:Organizada pela Confraria do Vinho do Porto\, esta regata – com um dos barcos mais raros ainda construídos – é tradicionalmente realizada no rio Douro\, no Porto\, durante a tarde de 24 de junho\, dia de São João\, coincidindo com o Solstício de verão. \nA corrida começa na foz do rio Douro e termina na Ponte Dom Luis I. Pode assistir à regata tanto da margem do rio Porto como da margem de Vila Nova de Gaia. \nBilhetes de bolsa para o Ride on The Independence \n \nhttps://hello.last2ticket.com/event/4457 \n\n \nSinta a emoção do mundo apenas Barco Rabelo Race! [Video]
URL:https://confrariadovinhodoporto.com/pt-pt/event/regata-barcos-rabelo-2/
LOCATION:Porto – Portugal\, Porto\, Portugal
ATTACH;FMTTYPE=image/jpeg:https://confrariadovinhodoporto.com/wp-content/uploads/2022/02/Regata_A0095_Events_Thumbnail.jpg
ORGANIZER;CN="Confraria do Vinho do Porto":MAILTO:admin@confrariadovinhodoporto.com
END:VEVENT
BEGIN:VEVENT
DTSTART;VALUE=DATE:20220622
DTEND;VALUE=DATE:20220623
DTSTAMP:20260424T175743
CREATED:20220212T101235Z
LAST-MODIFIED:20220215T105023Z
UID:3590-1655856000-1655942399@confrariadovinhodoporto.com
SUMMARY:Cerimónia de Indução da Confraria do Vinho do Porto
DESCRIPTION:Novos Confrades serão inscritos na Confraria do Vinho do Porto.
URL:https://confrariadovinhodoporto.com/pt-pt/event/cerimonia-de-entronizacao-da-confraria-do-vinho-do-porto/
LOCATION:Palácio da Bolsa\, Rua Ferreira Borges\, Porto\, 4050-253\, Portugal
ATTACH;FMTTYPE=image/jpeg:https://confrariadovinhodoporto.com/wp-content/uploads/2022/02/entronizacao_A262_events_Featured_Image.jpg
ORGANIZER;CN="Confraria do Vinho do Porto":MAILTO:admin@confrariadovinhodoporto.com
END:VEVENT
BEGIN:VEVENT
DTSTART;VALUE=DATE:20220331
DTEND;VALUE=DATE:20220401
DTSTAMP:20260424T175743
CREATED:20220212T101232Z
LAST-MODIFIED:20220217T161121Z
UID:3549-1648684800-1648771199@confrariadovinhodoporto.com
SUMMARY:BFT - Grande Degustação Fortificada
DESCRIPTION:A BFT é a maior e mais diversificada feira anual dedicada exclusivamente aos vinhos fortificados. O BFT será conduzido na Church House\, Westminster\, e trará aos membros do comércio de vinhos uma vasta gama de vinhos fortificados do Porto\, Sherry\, Madeira e australianos e seus produtores. \nEste evento destina-se a quem compra\, vende ou serve vinhos fortificados numa base comercial.
URL:https://confrariadovinhodoporto.com/pt-pt/event/bft-grande-degustacao-fortificada/
LOCATION:Church House\, Londres\, United Kingdom
ATTACH;FMTTYPE=image/png:https://confrariadovinhodoporto.com/wp-content/uploads/2022/02/BFTlogo_132.png
END:VEVENT
END:VCALENDAR