BEGIN:VCALENDAR
VERSION:2.0
PRODID:-//Confraria do Vinho do Porto - ECPv6.15.13//NONSGML v1.0//EN
CALSCALE:GREGORIAN
METHOD:PUBLISH
X-ORIGINAL-URL:https://confrariadovinhodoporto.com
X-WR-CALDESC:Events for Confraria do Vinho do Porto
REFRESH-INTERVAL;VALUE=DURATION:PT1H
X-Robots-Tag:noindex
X-PUBLISHED-TTL:PT1H
BEGIN:VTIMEZONE
TZID:UTC
BEGIN:STANDARD
TZOFFSETFROM:+0000
TZOFFSETTO:+0000
TZNAME:UTC
DTSTART:20210101T000000
END:STANDARD
END:VTIMEZONE
BEGIN:VTIMEZONE
TZID:Europe/Paris
BEGIN:DAYLIGHT
TZOFFSETFROM:+0100
TZOFFSETTO:+0200
TZNAME:CEST
DTSTART:20210328T010000
END:DAYLIGHT
BEGIN:STANDARD
TZOFFSETFROM:+0200
TZOFFSETTO:+0100
TZNAME:CET
DTSTART:20211031T010000
END:STANDARD
BEGIN:DAYLIGHT
TZOFFSETFROM:+0100
TZOFFSETTO:+0200
TZNAME:CEST
DTSTART:20220327T010000
END:DAYLIGHT
BEGIN:STANDARD
TZOFFSETFROM:+0200
TZOFFSETTO:+0100
TZNAME:CET
DTSTART:20221030T010000
END:STANDARD
BEGIN:DAYLIGHT
TZOFFSETFROM:+0100
TZOFFSETTO:+0200
TZNAME:CEST
DTSTART:20230326T010000
END:DAYLIGHT
BEGIN:STANDARD
TZOFFSETFROM:+0200
TZOFFSETTO:+0100
TZNAME:CET
DTSTART:20231029T010000
END:STANDARD
END:VTIMEZONE
BEGIN:VEVENT
DTSTART;TZID=UTC:20240624T000000
DTEND;TZID=UTC:20240624T235959
DTSTAMP:20260424T165129
CREATED:20240304T124227Z
LAST-MODIFIED:20240304T124229Z
UID:23230-1719187200-1719273599@confrariadovinhodoporto.com
SUMMARY:XL Rabelo Boat Regatta
DESCRIPTION:Organized by the Confraria do Vinho do Porto\, this regatta is traditionally held on the Douro River in Porto during the afternoon of June 24th\, the Day of São João\, coinciding with the Summer Solstice. The race starts at the mouth of the Douro River and ends at the Dom Luis I Bridge.You can watch the regatta from either the Porto side of the river or the Vila Nova de Gaia side. As a Confrade\, you will also have the opportunity to buy tickets to watch the regatta from the Confrade Boat.
URL:https://confrariadovinhodoporto.com/event/xl-rabelo-boat-regatta/
LOCATION:Douro River
ORGANIZER;CN="Confraria do Vinho do Porto":MAILTO:admin@confrariadovinhodoporto.com
END:VEVENT
BEGIN:VEVENT
DTSTART;TZID=UTC:20240622T000000
DTEND;TZID=UTC:20240622T235959
DTSTAMP:20260424T165129
CREATED:20240304T121555Z
LAST-MODIFIED:20240304T121557Z
UID:23199-1719014400-1719100799@confrariadovinhodoporto.com
SUMMARY:Annual Induction Ceremony in Porto
DESCRIPTION:On June 22\, the Annual Induction Ceremony will take place at the Palácio da Bolsa\, followed by a procession to the Alfandega\, where the Gala Dinner and Ball will be held for all Confrades. \n\n\n\nLocal: Palácio da Bolsa and Alfandega do Porto
URL:https://confrariadovinhodoporto.com/event/annual-induction-ceremony-in-porto/
LOCATION:Palácio da Bolsa\, R. de Ferreira Borges\, Porto\, 4050-253\, Portugal
ORGANIZER;CN="Confraria do Vinho do Porto":MAILTO:confraria@confrariadovinhodoporto.com
END:VEVENT
BEGIN:VEVENT
DTSTART;TZID=UTC:20240404T000000
DTEND;TZID=UTC:20240404T235959
DTSTAMP:20260424T165129
CREATED:20240304T122109Z
LAST-MODIFIED:20240304T122111Z
UID:23216-1712188800-1712275199@confrariadovinhodoporto.com
SUMMARY:Induction Ceremony in San Francisco
DESCRIPTION:On April 8th\, around 30 new Confrades will be inducted into the Confraria do Vinho do Porto at the University Club of San Francisco.
URL:https://confrariadovinhodoporto.com/event/induction-ceremony-in-san-francisco/
LOCATION:University Club of San Francisco
ORGANIZER;CN="Confraria do Vinho do Porto":MAILTO:confraria@confrariadovinhodoporto.com
END:VEVENT
BEGIN:VEVENT
DTSTART;TZID=UTC:20240322T000000
DTEND;TZID=UTC:20240324T235959
DTSTAMP:20260424T165129
CREATED:20240122T184844Z
LAST-MODIFIED:20240123T104745Z
UID:23117-1711065600-1711324799@confrariadovinhodoporto.com
SUMMARY:Porto Extravaganza "Vinhos Generosos de Portugal"
DESCRIPTION:Porto Extravaganza is one of the most famous Fortified Events made in Portugal. Since 2001it is held in Sintra\, for three days in a row! An incredible experience\, once a year in the month of March. The event is a celebration of unique and special events\, where the producers are invited to introduce their Ports\, History and Culture. \n\n\n\nThis year the Porto Extravaganza will be on 22\, 23\,24 March in Sintra at Casa dos Penedos\, an old Palace in the Historic Centre of Sintra. \n\n\n\n22 March (16H) \n\n\n\nAndresen Port – Vertical Single Harvest Tawny since 1900. Dr. Carlos Flores\, the CEO\, is going to introduce the History and the unique Port Wines from his family. An exclusive Tasting! \n\n\n\n23 March (16H) \n\n\n\nSymington Family Estates presents: \n\n\n\nGraham’s Port – Vertical Single Harvest Tawny\, always a “Must” to receive this incredible and unique Ports in a vertical Tasting. \n\n\n\n19.30H – Dinner with a Degustation Menu from Penha Longa Resort and Symington wines. \n\n\n\n24 March (16H) \n\n\n\nRozès Port – Welcome to the World of the special Categories (Old White Ports\, Vintage and Single Year Tawnys). \n\n\n\nFor the very first time Rozès will introduce a unique Port Tasting to the World of Port. \n\n\n\nDon’t miss! \n\n\n\n \n\n\n\nPrices \n\n\n\nThe price for each tasting- 200\,00 euros \n\n\n\nThe price for each dinner – 85\,00 euros \n\n\n\n \n\n\n\nContact \n\n\n\nPaulo Cruz  \n\n\n\nEmail: Bar.do.Binho.sintra@gmail.com \n\n\n\nWebsite: https://bardobinho.com/index.html
URL:https://confrariadovinhodoporto.com/event/porto-extravaganza-vinhos-generosos-de-portugal/
LOCATION:Casa dos Penedos\, R. Mal. Saldanha 21\, 2710-631 Sintra\, Portugal\, Sintra\, Portugal
ORGANIZER;CN="Paulo Cruz":MAILTO:Bar.do.Binho.sintra@gmail.com
END:VEVENT
BEGIN:VEVENT
DTSTART;TZID=UTC:20240302T000000
DTEND;TZID=UTC:20240302T235959
DTSTAMP:20260424T165129
CREATED:20240122T191335Z
LAST-MODIFIED:20240122T191337Z
UID:23130-1709337600-1709423999@confrariadovinhodoporto.com
SUMMARY:PORTVINSMESSEN.DK
DESCRIPTION:Ivan Madsen\, together with other Confrades\, is hosting the 9th version of a massive Port Wine fair in Roskilde\, just outside Copenhagen\, on Saturday\, the 2nd of March 2024. \n\n\n\nAttendees include: \n\n\n\n· 1.000 guests (2 x 500 guests) \n\n\n\n· +350 different Port Wines \n\n\n\n· Around 50 different brands \n\n\n\n· App. 20 guests (producers and sales people) from Portugal \n\n\n\n· At the fair several producers also use the opportunity to release new wines (often world premiere). \n\n\n\nThe guests buy a ticket for a tasting round of 2 hours\, and then they will have the possibility to taste the Ports for free.
URL:https://confrariadovinhodoporto.com/event/portvinsmessen-dk/
LOCATION:Roskilde Kongrescenter\, Denmark
END:VEVENT
BEGIN:VEVENT
DTSTART;TZID=UTC:20230624T160000
DTEND;TZID=UTC:20230624T193000
DTSTAMP:20260424T165129
CREATED:20220212T035227Z
LAST-MODIFIED:20230324T180539Z
UID:3336-1687622400-1687635000@confrariadovinhodoporto.com
SUMMARY:Rabelo Boats Regatta
DESCRIPTION:Organized by the Confraria do Vinho do Porto\, this regatta – featuring one of the most unusual boats still constructed – is traditionally held on the Douro River in Porto during the afternoon of June 24th\, the Day of São João\, coinciding with the Summer Solstice. \nThe race starts at the mouth of the Douro River and ends at the Ponte Dom Luis I Bridge. You can watch the regatta from either the Porto side of the River or the Vila Nova de Gaia side. \n  \n\n\n\n\n\n\n\n\nWatch the promotional video of the Regatta: \n\n\n\n\n\n\n\nFeel the thrill of the worlds only Barco Rabelo Race! [Video]
URL:https://confrariadovinhodoporto.com/event/regata-barcos-rabelo-2/
LOCATION:Porto – Portugal\, Porto\, Portugal
ORGANIZER;CN="Confraria do Vinho do Porto":MAILTO:admin@confrariadovinhodoporto.com
END:VEVENT
BEGIN:VEVENT
DTSTART;VALUE=DATE:20230420
DTEND;VALUE=DATE:20230421
DTSTAMP:20260424T165129
CREATED:20220211T235219Z
LAST-MODIFIED:20220217T161034Z
UID:3302-1681948800-1682035199@confrariadovinhodoporto.com
SUMMARY:BFT - Big Fortified Tasting
DESCRIPTION:BFT is the largest and most diverse annual trade fair dedicated solely to fortified wines. The BFT will be conducted at Church House\, Westminster\, and will bring members of the wine trade a wide range of Port\, Sherry\, Madeira\, and Australian fortified wines and their producers. \nThis event is for people who buy\, sell or serve fortified wines on a commercial basis.
URL:https://confrariadovinhodoporto.com/event/bft-big-fortified-tasting-2/
LOCATION:Church House\, Westminster\, London\, United Kingdom
ATTACH;FMTTYPE=image/png:https://confrariadovinhodoporto.com/wp-content/uploads/2022/02/BFTlogo_132.png
END:VEVENT
BEGIN:VEVENT
DTSTART;VALUE=DATE:20221104
DTEND;VALUE=DATE:20221105
DTSTAMP:20260424T165129
CREATED:20220212T034957Z
LAST-MODIFIED:20220214T160613Z
UID:3329-1667520000-1667606399@confrariadovinhodoporto.com
SUMMARY:Portwinemesse
DESCRIPTION:Portweinmesse\, 04 November 2022\, Leverkusen\, Germany – If you love Port\, this is a must-be event. In this year’s masterclass Sogevinus’ Carlos Alves will explain how you blend an old Tawny Port and taste some younger and older and very old Tawnies with you!
URL:https://confrariadovinhodoporto.com/event/portwinemesse/
LOCATION:Leverkusen\, Germany\, Leverkusen\, Germany
ATTACH;FMTTYPE=image/jpeg:https://confrariadovinhodoporto.com/wp-content/uploads/2022/02/WorldOfWine_Featured_Event_132x93.jpg
END:VEVENT
BEGIN:VEVENT
DTSTART;TZID=Europe/Paris:20220624T180000
DTEND;TZID=Europe/Paris:20220624T193000
DTSTAMP:20260424T165129
CREATED:20220212T033039Z
LAST-MODIFIED:20220617T161016Z
UID:3323-1656093600-1656099000@confrariadovinhodoporto.com
SUMMARY:Regata Barcos Rabelo
DESCRIPTION:Organized by the Confraria do Vinho do Porto\, this regatta – featuring one of the most unusual boats still constructed – is traditionally held on the Douro River in Porto during the afternoon of June 24th\, the Day of São João\, coinciding with the Summer Solstice. \nThe race starts at the mouth of the Douro River and ends at the Ponte Dom Luis I Bridge. You can watch the regatta from either the Porto side of the River or the Vila Nova de Gaia side. \nWant to ride along side the rabelos on a chartered boat as they race? \nPurcahse Tickets to Ride on The Independence \n \nhttps://hello.last2ticket.com/event/4457 \n\n \nFeel the thrill of the worlds only Barco Rabelo Race! [Video]
URL:https://confrariadovinhodoporto.com/event/regata-barcos-rabelo/
LOCATION:Porto – Portugal\, Porto\, Portugal
ATTACH;FMTTYPE=image/jpeg:https://confrariadovinhodoporto.com/wp-content/uploads/2022/02/Regata_A0095_Events_Thumbnail.jpg
ORGANIZER;CN="Confraria do Vinho do Porto":MAILTO:admin@confrariadovinhodoporto.com
END:VEVENT
BEGIN:VEVENT
DTSTART;VALUE=DATE:20220622
DTEND;VALUE=DATE:20220623
DTSTAMP:20260424T165129
CREATED:20220212T032114Z
LAST-MODIFIED:20220215T105015Z
UID:3316-1655856000-1655942399@confrariadovinhodoporto.com
SUMMARY:Confraria do Vinho do Porto Induction Ceremony
DESCRIPTION:New Confrades will be inducted in the Confraria do Vinho do Porto.
URL:https://confrariadovinhodoporto.com/event/confraria-do-vinho-do-porto-enthronization-ceremony/
LOCATION:Palácio da Bolsa\, Rua Ferreira Borges\, Porto\, 4050-253\, Portugal
ATTACH;FMTTYPE=image/jpeg:https://confrariadovinhodoporto.com/wp-content/uploads/2022/02/entronizacao_A262_events_Featured_Image.jpg
ORGANIZER;CN="Confraria do Vinho do Porto":MAILTO:admin@confrariadovinhodoporto.com
END:VEVENT
BEGIN:VEVENT
DTSTART;VALUE=DATE:20220331
DTEND;VALUE=DATE:20220401
DTSTAMP:20260424T165129
CREATED:20220211T234925Z
LAST-MODIFIED:20220217T161141Z
UID:3297-1648684800-1648771199@confrariadovinhodoporto.com
SUMMARY:BFT - Big Fortified Tasting
DESCRIPTION:BFT is the largest and most diverse annual trade fair dedicated solely to fortified wines. The BFT will be conducted at Church House\, Westminster\, and will bring members of the wine trade a wide range of Port\, Sherry\, Madeira\, and Australian fortified wines and their producers. \nThis event is for people who buy\, sell or serve fortified wines on a commercial basis.
URL:https://confrariadovinhodoporto.com/event/bft-big-fortified-tasting/
LOCATION:Church House\, Westminster\, London\, United Kingdom
ATTACH;FMTTYPE=image/png:https://confrariadovinhodoporto.com/wp-content/uploads/2022/02/BFTlogo_132.png
END:VEVENT
END:VCALENDAR